BEGIN:VCALENDAR
VERSION:2.0
PRODID:spatie/icalendar-generator
DESCRIPTION:Events from Westcoast Calligraphy Society
X-WR-CALDESC:Events from Westcoast Calligraphy Society
REFRESH-INTERVAL;VALUE=DURATION:PT1440M
X-PUBLISHED-TTL:PT1440M
BEGIN:VTIMEZONE
TZID:America/Vancouver
BEGIN:DAYLIGHT
DTSTART:20240310T020000Z
TZOFFSETFROM:-0800
TZOFFSETTO:-0700
END:DAYLIGHT
BEGIN:STANDARD
DTSTART:20241103T020000Z
TZOFFSETFROM:-0700
TZOFFSETTO:-0800
END:STANDARD
BEGIN:DAYLIGHT
DTSTART:20250309T020000Z
TZOFFSETFROM:-0800
TZOFFSETTO:-0700
END:DAYLIGHT
END:VTIMEZONE
BEGIN:VTIMEZONE
TZID:UTC
BEGIN:STANDARD
DTSTART:20250724T161825Z
TZOFFSETFROM:+0000
TZOFFSETTO:+0000
END:STANDARD
END:VTIMEZONE
BEGIN:VEVENT
UID:27-21
DTSTAMP:20260420T161825Z
SUMMARY:Humanist: The Elegance and Simplicity
LOCATION:Zoom
ORGANIZER;CN=Maxie Pena:MAILTO:maxiecalligraphy@gmail.com
RRULE:FREQ=WEEKLY;UNTIL=20241009T000000Z
DTSTART;TZID=America/Vancouver:20240925T100000
DTEND;TZID=America/Vancouver:20240925T120000
X-ALT-DESC;FMTTYPE=TEXT/HTML:
CATEGORIES:Seminar
URL;VALUE=URI:https://www.westcoastcalligraphy.com/mc-events/humanist-the-e
 legance-and-simplicity/?mc_id=27
METHOD:PUBLISH
END:VEVENT
END:VCALENDAR