BEGIN:VCALENDAR
VERSION:2.0
PRODID:spatie/icalendar-generator
DESCRIPTION:Events from Westcoast Calligraphy Society
X-WR-CALDESC:Events from Westcoast Calligraphy Society
REFRESH-INTERVAL;VALUE=DURATION:PT1440M
X-PUBLISHED-TTL:PT1440M
BEGIN:VTIMEZONE
TZID:America/Vancouver
BEGIN:STANDARD
DTSTART:20231105T020000Z
TZOFFSETFROM:-0700
TZOFFSETTO:-0800
END:STANDARD
BEGIN:DAYLIGHT
DTSTART:20240310T020000Z
TZOFFSETFROM:-0800
TZOFFSETTO:-0700
END:DAYLIGHT
END:VTIMEZONE
BEGIN:VTIMEZONE
TZID:UTC
BEGIN:STANDARD
DTSTART:20250724T192924Z
TZOFFSETFROM:+0000
TZOFFSETTO:+0000
END:STANDARD
END:VTIMEZONE
BEGIN:VEVENT
UID:29-22
DTSTAMP:20260420T192924Z
SUMMARY:Delta Literary Arts - COMPOSED Festival of Poetry and Writing
LOCATION:North Delta Centre for the Arts 11425 84 Ave  Delta BC V4C 2L9
ORGANIZER;CN=webmaster:MAILTO:david@cowbels.ca
DTSTART;TZID=America/Vancouver:20240420T100000
DTEND;TZID=America/Vancouver:20240420T170000
X-ALT-DESC;FMTTYPE=TEXT/HTML:
CATEGORIES:Volunteer Events
URL;VALUE=URI:https://www.westcoastcalligraphy.com/mc-events/delta-literary
 -arts-composed-festival-of-poetry-and-writing/
METHOD:PUBLISH
END:VEVENT
END:VCALENDAR