BEGIN:VCALENDAR
VERSION:2.0
PRODID:spatie/icalendar-generator
DESCRIPTION:Events from Westcoast Calligraphy Society
X-WR-CALDESC:Events from Westcoast Calligraphy Society
REFRESH-INTERVAL;VALUE=DURATION:PT1440M
X-PUBLISHED-TTL:PT1440M
BEGIN:VTIMEZONE
TZID:America/Vancouver
BEGIN:STANDARD
DTSTART:20241103T020000Z
TZOFFSETFROM:-0700
TZOFFSETTO:-0800
END:STANDARD
BEGIN:DAYLIGHT
DTSTART:20250309T020000Z
TZOFFSETFROM:-0800
TZOFFSETTO:-0700
END:DAYLIGHT
END:VTIMEZONE
BEGIN:VTIMEZONE
TZID:UTC
BEGIN:STANDARD
DTSTART:20250724T174306Z
TZOFFSETFROM:+0000
TZOFFSETTO:+0000
END:STANDARD
END:VTIMEZONE
BEGIN:VEVENT
UID:30-23
DTSTAMP:20260420T174306Z
SUMMARY:Christmas Tea Social
LOCATION:Peace Church 659 East 52nd Ave  Vancouver BC V5X 1G8
ORGANIZER;CN=SJ:MAILTO:john@kitsmedia.ca
DTSTART;TZID=America/Vancouver:20241207T100000
DTEND;TZID=America/Vancouver:20241207T120000
X-ALT-DESC;FMTTYPE=TEXT/HTML:Click here to sign up for the Optional Christm
 as Social Card Exchange (deadline is November 15th\, 2024) [caption id=\"a
 ttachment_4285\" align=\"alignleft\" width=\"584\"] Christmas Social 2024 
 - December 7th[/caption]
CATEGORIES:Social
URL;VALUE=URI:https://www.westcoastcalligraphy.com/mc-events/christmas-tea-
 social/
METHOD:PUBLISH
END:VEVENT
END:VCALENDAR