BEGIN:VCALENDAR
VERSION:2.0
PRODID:spatie/icalendar-generator
DESCRIPTION:Events from Westcoast Calligraphy Society
X-WR-CALDESC:Events from Westcoast Calligraphy Society
REFRESH-INTERVAL;VALUE=DURATION:PT1440M
X-PUBLISHED-TTL:PT1440M
BEGIN:VTIMEZONE
TZID:America/Vancouver
BEGIN:STANDARD
DTSTART:20241103T020000Z
TZOFFSETFROM:-0700
TZOFFSETTO:-0800
END:STANDARD
BEGIN:DAYLIGHT
DTSTART:20250309T020000Z
TZOFFSETFROM:-0800
TZOFFSETTO:-0700
END:DAYLIGHT
END:VTIMEZONE
BEGIN:VTIMEZONE
TZID:UTC
BEGIN:STANDARD
DTSTART:20250724T132137Z
TZOFFSETFROM:+0000
TZOFFSETTO:+0000
END:STANDARD
END:VTIMEZONE
BEGIN:VEVENT
UID:33-18
DTSTAMP:20260420T132137Z
SUMMARY:Folk Art and More! Pilot Parallel Pen Session with Violet Smythe
LOCATION:Peace Church 659 East 52nd Ave  Vancouver BC V5X 1G8
ORGANIZER;CN=Maxie Pena:MAILTO:john@kitsmedia.ca
DTSTART;TZID=America/Vancouver:20250326T190000
DTEND;TZID=America/Vancouver:20250326T210000
X-ALT-DESC;FMTTYPE=TEXT/HTML:
CATEGORIES:Meeting Program
URL;VALUE=URI:https://www.westcoastcalligraphy.com/mc-events/folk-art-and-m
 ore-pilot-parallel-pen-session-with-violet-smythe/
METHOD:PUBLISH
END:VEVENT
END:VCALENDAR