BEGIN:VCALENDAR
VERSION:2.0
PRODID:spatie/icalendar-generator
DESCRIPTION:Events from Westcoast Calligraphy Society
X-WR-CALDESC:Events from Westcoast Calligraphy Society
REFRESH-INTERVAL;VALUE=DURATION:PT1440M
X-PUBLISHED-TTL:PT1440M
BEGIN:VTIMEZONE
TZID:America/Vancouver
BEGIN:STANDARD
DTSTART:20241103T020000Z
TZOFFSETFROM:-0700
TZOFFSETTO:-0800
END:STANDARD
BEGIN:DAYLIGHT
DTSTART:20250309T020000Z
TZOFFSETFROM:-0800
TZOFFSETTO:-0700
END:DAYLIGHT
END:VTIMEZONE
BEGIN:VTIMEZONE
TZID:UTC
BEGIN:STANDARD
DTSTART:20250724T161702Z
TZOFFSETFROM:+0000
TZOFFSETTO:+0000
END:STANDARD
END:VTIMEZONE
BEGIN:VEVENT
UID:36-28
DTSTAMP:20260420T161702Z
SUMMARY:Sketchy Stunt Roman Minuscules with Nina Tran
LOCATION:Zoom
ORGANIZER;CN=SJ:MAILTO:john@kitsmedia.ca
DTSTART;TZID=America/Vancouver:20250122T190000
DTEND;TZID=America/Vancouver:20250122T210000
X-ALT-DESC;FMTTYPE=TEXT/HTML:For more information\, click here.
CATEGORIES:Meeting Program,  Zoom
URL;VALUE=URI:https://www.westcoastcalligraphy.com/mc-events/sketchy-stunt-
 roman-minuscules-with-nina-tran/
METHOD:PUBLISH
END:VEVENT
END:VCALENDAR