BEGIN:VCALENDAR
VERSION:2.0
PRODID:spatie/icalendar-generator
DESCRIPTION:Events from Westcoast Calligraphy Society
X-WR-CALDESC:Events from Westcoast Calligraphy Society
REFRESH-INTERVAL;VALUE=DURATION:PT1440M
X-PUBLISHED-TTL:PT1440M
BEGIN:VTIMEZONE
TZID:America/Vancouver
BEGIN:DAYLIGHT
DTSTART:20250309T020000Z
TZOFFSETFROM:-0800
TZOFFSETTO:-0700
END:DAYLIGHT
BEGIN:STANDARD
DTSTART:20251102T020000Z
TZOFFSETFROM:-0700
TZOFFSETTO:-0800
END:STANDARD
BEGIN:DAYLIGHT
DTSTART:20260308T020000Z
TZOFFSETFROM:-0800
TZOFFSETTO:-0700
END:DAYLIGHT
END:VTIMEZONE
BEGIN:VTIMEZONE
TZID:UTC
BEGIN:STANDARD
DTSTART:20250724T162818Z
TZOFFSETFROM:+0000
TZOFFSETTO:+0000
END:STANDARD
END:VTIMEZONE
BEGIN:VEVENT
UID:44-36
DTSTAMP:20260420T162818Z
SUMMARY:Election Year &amp;amp\; Short Program - Powerpoint presentation Mediae
 val Manuscripts: A visit to the Pontifical Institute of Mediaeval Studies 
 Library at U of T
LOCATION:Zoom
ORGANIZER;CN=SJ:MAILTO:sharlene.jose@gmail.com
DTSTART;TZID=America/Vancouver:20251126T190000
DTEND;TZID=America/Vancouver:20251126T210000
X-ALT-DESC;FMTTYPE=TEXT/HTML:Presenter: Doris Major
CATEGORIES:Meeting Program,  Zoom
URL;VALUE=URI:https://www.westcoastcalligraphy.com/mc-events/election-year-
 short-program-powerpoint-presentation-mediaeval-manuscripts-a-visit-to-the
 -pontifical-institute-of-mediaeval-studies-library-at-u-of-t/
METHOD:PUBLISH
END:VEVENT
END:VCALENDAR