BEGIN:VCALENDAR
VERSION:2.0
PRODID:spatie/icalendar-generator
DESCRIPTION:Events from Westcoast Calligraphy Society
X-WR-CALDESC:Events from Westcoast Calligraphy Society
REFRESH-INTERVAL;VALUE=DURATION:PT1440M
X-PUBLISHED-TTL:PT1440M
BEGIN:VTIMEZONE
TZID:America/Vancouver
BEGIN:DAYLIGHT
DTSTART:20250309T020000Z
TZOFFSETFROM:-0800
TZOFFSETTO:-0700
END:DAYLIGHT
BEGIN:STANDARD
DTSTART:20251102T020000Z
TZOFFSETFROM:-0700
TZOFFSETTO:-0800
END:STANDARD
BEGIN:DAYLIGHT
DTSTART:20260308T020000Z
TZOFFSETFROM:-0800
TZOFFSETTO:-0700
END:DAYLIGHT
END:VTIMEZONE
BEGIN:VTIMEZONE
TZID:UTC
BEGIN:STANDARD
DTSTART:20250724T111238Z
TZOFFSETFROM:+0000
TZOFFSETTO:+0000
END:STANDARD
END:VTIMEZONE
BEGIN:VEVENT
UID:46-38
DTSTAMP:20260420T111238Z
SUMMARY:September 24th Meeting: Taking Photos of Art Work and Calligraphy w
 ith your Smartphone with Laurie Kingdon
LOCATION:Peace Church 659 East 52nd Ave  Vancouver BC V5X 1G8
ORGANIZER;CN=SJ:MAILTO:sharlene.jose@gmail.com
DTSTART;TZID=America/Vancouver:20250924T193000
DTEND;TZID=America/Vancouver:20250924T210000
X-ALT-DESC;FMTTYPE=TEXT/HTML:
CATEGORIES:Meeting Program
URL;VALUE=URI:https://www.westcoastcalligraphy.com/mc-events/september-24th
 -meeting-taking-photos-of-art-work-and-calligraphy-with-your-smartphone-wi
 th-laurie-kingdon/
METHOD:PUBLISH
END:VEVENT
END:VCALENDAR