BEGIN:VCALENDAR
VERSION:2.0
PRODID:spatie/icalendar-generator
DESCRIPTION:Events from Westcoast Calligraphy Society
X-WR-CALDESC:Events from Westcoast Calligraphy Society
REFRESH-INTERVAL;VALUE=DURATION:PT1440M
X-PUBLISHED-TTL:PT1440M
BEGIN:VTIMEZONE
TZID:America/Vancouver
BEGIN:DAYLIGHT
DTSTART:20250309T020000Z
TZOFFSETFROM:-0800
TZOFFSETTO:-0700
END:DAYLIGHT
BEGIN:STANDARD
DTSTART:20251102T020000Z
TZOFFSETFROM:-0700
TZOFFSETTO:-0800
END:STANDARD
BEGIN:DAYLIGHT
DTSTART:20260308T020000Z
TZOFFSETFROM:-0800
TZOFFSETTO:-0700
END:DAYLIGHT
END:VTIMEZONE
BEGIN:VTIMEZONE
TZID:UTC
BEGIN:STANDARD
DTSTART:20250724T194324Z
TZOFFSETFROM:+0000
TZOFFSETTO:+0000
END:STANDARD
END:VTIMEZONE
BEGIN:VEVENT
UID:48-40
DTSTAMP:20260420T194324Z
SUMMARY:October 25th: First WCS Saturday Drop-In session - \"Get Your Jingl
 e On!\"
LOCATION:Surrey Library - Clayton Branch  7155 187A Street  Surrey BC V4N 6
 L9
ORGANIZER;CN=SJ:MAILTO:sharlene.jose@gmail.com
DTSTART;TZID=America/Vancouver:20251025T103000
DTEND;TZID=America/Vancouver:20251025T143000
X-ALT-DESC;FMTTYPE=TEXT/HTML:Mark your calendar and get ready to join us fo
 r our first Westcoast Calligraphy Society Saturday Drop-In session!  The 
 Drop-In Saturdays are a one-size-fits-all event for beginners to experienc
 ed calligraphers.  October Program: Get Your Jingle On! Get a jump start 
 on your Christmas Cards and Tags.  Join us in creating Snowflakes and ot
 her decorative elements using&amp;hellip\;
CATEGORIES:General
URL;VALUE=URI:https://www.westcoastcalligraphy.com/mc-events/october-25th-f
 irst-wcs-saturday-drop-in-session-get-your-jingle-on/
METHOD:PUBLISH
END:VEVENT
END:VCALENDAR