BEGIN:VCALENDAR
VERSION:2.0
PRODID:spatie/icalendar-generator
DESCRIPTION:Events from Westcoast Calligraphy Society
X-WR-CALDESC:Events from Westcoast Calligraphy Society
REFRESH-INTERVAL;VALUE=DURATION:PT1440M
X-PUBLISHED-TTL:PT1440M
BEGIN:VTIMEZONE
TZID:America/Vancouver
BEGIN:DAYLIGHT
DTSTART:20230312T020000Z
TZOFFSETFROM:-0800
TZOFFSETTO:-0700
END:DAYLIGHT
BEGIN:STANDARD
DTSTART:20231105T020000Z
TZOFFSETFROM:-0700
TZOFFSETTO:-0800
END:STANDARD
BEGIN:DAYLIGHT
DTSTART:20240310T020000Z
TZOFFSETFROM:-0800
TZOFFSETTO:-0700
END:DAYLIGHT
END:VTIMEZONE
BEGIN:VTIMEZONE
TZID:UTC
BEGIN:STANDARD
DTSTART:20250724T212108Z
TZOFFSETFROM:+0000
TZOFFSETTO:+0000
END:STANDARD
END:VTIMEZONE
BEGIN:VEVENT
UID:6-4
DTSTAMP:20260420T212108Z
SUMMARY:Sacred Geometry with Merrilee Hughes
LOCATION:Peace Church 659 East 52nd Ave  Vancouver BC V5X 1G8
ORGANIZER;CN=Wendy Cowley:MAILTO:wacowley@telus.net
DTSTART;TZID=America/Vancouver:20230927T193000
DTEND;TZID=America/Vancouver:20230927T203000
X-ALT-DESC;FMTTYPE=TEXT/HTML:
CATEGORIES:Meeting Program
URL;VALUE=URI:https://www.westcoastcalligraphy.com/mc-events/sacred-geometr
 y-with-merrilee-hughes/
METHOD:PUBLISH
END:VEVENT
END:VCALENDAR