BEGIN:VCALENDAR
VERSION:2.0
PRODID:spatie/icalendar-generator
DESCRIPTION:Events from Westcoast Calligraphy Society
X-WR-CALDESC:Events from Westcoast Calligraphy Society
REFRESH-INTERVAL;VALUE=DURATION:PT1440M
X-PUBLISHED-TTL:PT1440M
BEGIN:VTIMEZONE
TZID:America/Vancouver
BEGIN:DAYLIGHT
DTSTART:20250309T020000Z
TZOFFSETFROM:-0800
TZOFFSETTO:-0700
END:DAYLIGHT
BEGIN:STANDARD
DTSTART:20251102T020000Z
TZOFFSETFROM:-0700
TZOFFSETTO:-0800
END:STANDARD
BEGIN:DAYLIGHT
DTSTART:20260308T020000Z
TZOFFSETFROM:-0800
TZOFFSETTO:-0700
END:DAYLIGHT
END:VTIMEZONE
BEGIN:VTIMEZONE
TZID:UTC
BEGIN:STANDARD
DTSTART:20250724T163719Z
TZOFFSETFROM:+0000
TZOFFSETTO:+0000
END:STANDARD
END:VTIMEZONE
BEGIN:VEVENT
UID:63-52
DTSTAMP:20260420T163719Z
SUMMARY:November 22nd: 2nd WCS Saturday Meet Up - \"Falalala Brush Pens\"
LOCATION:Surrey Library - Clayton Branch  7155 187A Street  Surrey BC V4N 6
 L9
ORGANIZER;CN=SJ:MAILTO:sharlene.jose@gmail.com
DTSTART;TZID=America/Vancouver:20251122T103000
DTEND;TZID=America/Vancouver:20251122T143000
X-ALT-DESC;FMTTYPE=TEXT/HTML:Mark your calendar and get ready to join us ou
 r 2nd Saturday Meet Up -- one-size-fits-all event for beginners to experie
 nced calligraphers.  November Program: Falalala Brush Pens Join us in cre
 ating some seasonal florals and lettering using brush pens.
CATEGORIES:Drop-Ins
URL;VALUE=URI:https://www.westcoastcalligraphy.com/mc-events/november-22nd-
 2nd-wcs-saturday-meet-up-falalala-brush-pens/
METHOD:PUBLISH
END:VEVENT
END:VCALENDAR