BEGIN:VCALENDAR
VERSION:2.0
PRODID:spatie/icalendar-generator
DESCRIPTION:Events from Westcoast Calligraphy Society
X-WR-CALDESC:Events from Westcoast Calligraphy Society
REFRESH-INTERVAL;VALUE=DURATION:PT1440M
X-PUBLISHED-TTL:PT1440M
BEGIN:VTIMEZONE
TZID:America/Vancouver
BEGIN:STANDARD
DTSTART:20251102T020000Z
TZOFFSETFROM:-0700
TZOFFSETTO:-0800
END:STANDARD
BEGIN:DAYLIGHT
DTSTART:20260308T020000Z
TZOFFSETFROM:-0800
TZOFFSETTO:-0700
END:DAYLIGHT
END:VTIMEZONE
BEGIN:VTIMEZONE
TZID:UTC
BEGIN:STANDARD
DTSTART:20250724T115409Z
TZOFFSETFROM:+0000
TZOFFSETTO:+0000
END:STANDARD
END:VTIMEZONE
BEGIN:VEVENT
UID:68-54
DTSTAMP:20260420T115409Z
SUMMARY:SATURDAY MEET-UP – MARCH 7th: Decorated Versals
LOCATION:
ORGANIZER;CN=SJ:MAILTO:sharlene.jose@gmail.com
DTSTART;TZID=America/Vancouver:20260307T130000
DTEND;TZID=America/Vancouver:20260307T140000
X-ALT-DESC;FMTTYPE=TEXT/HTML:
CATEGORIES:Outreach,  Meet-Up
URL;VALUE=URI:https://www.westcoastcalligraphy.com/mc-events/saturday-meet-
 up-march-7th-decorated-versals/
METHOD:PUBLISH
END:VEVENT
END:VCALENDAR