BEGIN:VCALENDAR
VERSION:2.0
PRODID:spatie/icalendar-generator
DESCRIPTION:Events from Westcoast Calligraphy Society
X-WR-CALDESC:Events from Westcoast Calligraphy Society
REFRESH-INTERVAL;VALUE=DURATION:PT1440M
X-PUBLISHED-TTL:PT1440M
BEGIN:VTIMEZONE
TZID:America/Vancouver
BEGIN:STANDARD
DTSTART:20231105T020000Z
TZOFFSETFROM:-0700
TZOFFSETTO:-0800
END:STANDARD
BEGIN:DAYLIGHT
DTSTART:20240310T020000Z
TZOFFSETFROM:-0800
TZOFFSETTO:-0700
END:DAYLIGHT
END:VTIMEZONE
BEGIN:VTIMEZONE
TZID:UTC
BEGIN:STANDARD
DTSTART:20250724T193636Z
TZOFFSETFROM:+0000
TZOFFSETTO:+0000
END:STANDARD
END:VTIMEZONE
BEGIN:VEVENT
UID:20-16
DTSTAMP:20260420T193636Z
SUMMARY:Playful Meandering Letters with Nancy Hays Hills
LOCATION:Zoom
ORGANIZER;CN=webmaster:MAILTO:david@cowbels.ca
RRULE:FREQ=WEEKLY;UNTIL=20240201T000000Z
DTSTART;TZID=America/Vancouver:20240125T100000
DTEND;TZID=America/Vancouver:20240125T130000
X-ALT-DESC;FMTTYPE=TEXT/HTML:
CATEGORIES:Seminar
URL;VALUE=URI:https://www.westcoastcalligraphy.com/mc-events/playful-meande
 ring-letters-with-nancy-hays-hills/?mc_id=20
METHOD:PUBLISH
END:VEVENT
END:VCALENDAR