BEGIN:VCALENDAR
VERSION:2.0
PRODID:spatie/icalendar-generator
DESCRIPTION:Events from Westcoast Calligraphy Society
X-WR-CALDESC:Events from Westcoast Calligraphy Society
REFRESH-INTERVAL;VALUE=DURATION:PT1440M
X-PUBLISHED-TTL:PT1440M
BEGIN:VTIMEZONE
TZID:America/Vancouver
BEGIN:DAYLIGHT
DTSTART:20240310T020000Z
TZOFFSETFROM:-0800
TZOFFSETTO:-0700
END:DAYLIGHT
BEGIN:STANDARD
DTSTART:20241103T020000Z
TZOFFSETFROM:-0700
TZOFFSETTO:-0800
END:STANDARD
BEGIN:DAYLIGHT
DTSTART:20250309T020000Z
TZOFFSETFROM:-0800
TZOFFSETTO:-0700
END:DAYLIGHT
END:VTIMEZONE
BEGIN:VTIMEZONE
TZID:UTC
BEGIN:STANDARD
DTSTART:20250724T174132Z
TZOFFSETFROM:+0000
TZOFFSETTO:+0000
END:STANDARD
END:VTIMEZONE
BEGIN:VEVENT
UID:21-17
DTSTAMP:20260420T174132Z
SUMMARY:WOOL
LOCATION:
ORGANIZER;CN=webmaster:MAILTO:david@cowbels.ca
DTSTART;TZID=America/Vancouver;VALUE=DATE:20240928
DTEND;TZID=America/Vancouver;VALUE=DATE:20240929
X-ALT-DESC;FMTTYPE=TEXT/HTML:
CATEGORIES:Seminar
URL;VALUE=URI:https://www.westcoastcalligraphy.com/mc-events/wool/
METHOD:PUBLISH
END:VEVENT
END:VCALENDAR