BEGIN:VCALENDAR
VERSION:2.0
PRODID:spatie/icalendar-generator
DESCRIPTION:Events from Westcoast Calligraphy Society
X-WR-CALDESC:Events from Westcoast Calligraphy Society
REFRESH-INTERVAL;VALUE=DURATION:PT1440M
X-PUBLISHED-TTL:PT1440M
BEGIN:VTIMEZONE
TZID:America/Vancouver
BEGIN:STANDARD
DTSTART:20241103T020000Z
TZOFFSETFROM:-0700
TZOFFSETTO:-0800
END:STANDARD
BEGIN:DAYLIGHT
DTSTART:20250309T020000Z
TZOFFSETFROM:-0800
TZOFFSETTO:-0700
END:DAYLIGHT
END:VTIMEZONE
BEGIN:VTIMEZONE
TZID:UTC
BEGIN:STANDARD
DTSTART:20250724T161039Z
TZOFFSETFROM:+0000
TZOFFSETTO:+0000
END:STANDARD
END:VTIMEZONE
BEGIN:VEVENT
UID:37-29
DTSTAMP:20260420T161039Z
SUMMARY:Let's get Knotty! Celtic Knots! with Valerie Akkermann
LOCATION:Zoom
ORGANIZER;CN=SJ:MAILTO:john@kitsmedia.ca
DTSTART;TZID=America/Vancouver:20250226T190000
DTEND;TZID=America/Vancouver:20250226T210000
X-ALT-DESC;FMTTYPE=TEXT/HTML:Please click here for more information.
CATEGORIES:Zoom,  Meeting Program
URL;VALUE=URI:https://www.westcoastcalligraphy.com/mc-events/lets-get-knott
 y-celtic-knots-with-valerie-akkermann/
METHOD:PUBLISH
END:VEVENT
END:VCALENDAR