BEGIN:VCALENDAR
VERSION:2.0
PRODID:spatie/icalendar-generator
DESCRIPTION:Events from Westcoast Calligraphy Society
X-WR-CALDESC:Events from Westcoast Calligraphy Society
REFRESH-INTERVAL;VALUE=DURATION:PT1440M
X-PUBLISHED-TTL:PT1440M
BEGIN:VTIMEZONE
TZID:America/Vancouver
BEGIN:STANDARD
DTSTART:20241103T020000Z
TZOFFSETFROM:-0700
TZOFFSETTO:-0800
END:STANDARD
BEGIN:DAYLIGHT
DTSTART:20250309T020000Z
TZOFFSETFROM:-0800
TZOFFSETTO:-0700
END:DAYLIGHT
BEGIN:STANDARD
DTSTART:20251102T020000Z
TZOFFSETFROM:-0700
TZOFFSETTO:-0800
END:STANDARD
END:VTIMEZONE
BEGIN:VTIMEZONE
TZID:UTC
BEGIN:STANDARD
DTSTART:20250724T160905Z
TZOFFSETFROM:+0000
TZOFFSETTO:+0000
END:STANDARD
END:VTIMEZONE
BEGIN:VEVENT
UID:40-32
DTSTAMP:20260420T160905Z
SUMMARY:Opus Presentation: Framing\, Archival and printing
LOCATION:Peace Church 659 East 52nd Ave  Vancouver BC V5X 1G8
ORGANIZER;CN=SJ:MAILTO:john@kitsmedia.ca
DTSTART;TZID=America/Vancouver:20250528T190000
DTEND;TZID=America/Vancouver:20250528T210000
X-ALT-DESC;FMTTYPE=TEXT/HTML:Presenter: Trevor Code
CATEGORIES:Meeting Program
URL;VALUE=URI:https://www.westcoastcalligraphy.com/mc-events/opus-presentat
 ion-framing-archival-and-printing/
METHOD:PUBLISH
END:VEVENT
END:VCALENDAR