BEGIN:VCALENDAR
VERSION:2.0
PRODID:spatie/icalendar-generator
DESCRIPTION:Events from Westcoast Calligraphy Society
X-WR-CALDESC:Events from Westcoast Calligraphy Society
REFRESH-INTERVAL;VALUE=DURATION:PT1440M
X-PUBLISHED-TTL:PT1440M
BEGIN:VTIMEZONE
TZID:America/Vancouver
BEGIN:DAYLIGHT
DTSTART:20250309T020000Z
TZOFFSETFROM:-0800
TZOFFSETTO:-0700
END:DAYLIGHT
BEGIN:STANDARD
DTSTART:20251102T020000Z
TZOFFSETFROM:-0700
TZOFFSETTO:-0800
END:STANDARD
BEGIN:DAYLIGHT
DTSTART:20260308T020000Z
TZOFFSETFROM:-0800
TZOFFSETTO:-0700
END:DAYLIGHT
END:VTIMEZONE
BEGIN:VTIMEZONE
TZID:UTC
BEGIN:STANDARD
DTSTART:20250724T113147Z
TZOFFSETFROM:+0000
TZOFFSETTO:+0000
END:STANDARD
END:VTIMEZONE
BEGIN:VEVENT
UID:47-39
DTSTAMP:20260420T113147Z
SUMMARY:WCS at Word Vancouver – Sept 20\, 2025
LOCATION:UBC Robson Square 800 Robson St\,   Vancouver BC V6Z 3B7
ORGANIZER;CN=SJ:MAILTO:sharlene.jose@gmail.com
DTSTART;TZID=America/Vancouver:20250920T110000
DTEND;TZID=America/Vancouver:20250920T170000
X-ALT-DESC;FMTTYPE=TEXT/HTML:We’re thrilled to share that the Westcoast C
 alligraphy Society will be an exhibitor at Word Vancouver on Saturday\, Se
 ptember 20th\, 2025! Join us at this vibrant celebration of writing\, crea
 tivity\, and community — right in the heart of Vancouver. We’ll be the
 re sharing our love of letters and the art of beautiful writing. This is&amp;h
 ellip\;
CATEGORIES:Volunteer Events
URL;VALUE=URI:https://www.westcoastcalligraphy.com/mc-events/wcs-at-word-va
 ncouver-sept-20-2025/
METHOD:PUBLISH
END:VEVENT
END:VCALENDAR