BEGIN:VCALENDAR
VERSION:2.0
PRODID:spatie/icalendar-generator
DESCRIPTION:Events from Westcoast Calligraphy Society
X-WR-CALDESC:Events from Westcoast Calligraphy Society
REFRESH-INTERVAL;VALUE=DURATION:PT1440M
X-PUBLISHED-TTL:PT1440M
BEGIN:VTIMEZONE
TZID:America/Vancouver
BEGIN:DAYLIGHT
DTSTART:20230312T020000Z
TZOFFSETFROM:-0800
TZOFFSETTO:-0700
END:DAYLIGHT
BEGIN:STANDARD
DTSTART:20231105T020000Z
TZOFFSETFROM:-0700
TZOFFSETTO:-0800
END:STANDARD
BEGIN:DAYLIGHT
DTSTART:20240310T020000Z
TZOFFSETFROM:-0800
TZOFFSETTO:-0700
END:DAYLIGHT
END:VTIMEZONE
BEGIN:VTIMEZONE
TZID:UTC
BEGIN:STANDARD
DTSTART:20250725T002216Z
TZOFFSETFROM:+0000
TZOFFSETTO:+0000
END:STANDARD
END:VTIMEZONE
BEGIN:VEVENT
UID:9-7
DTSTAMP:20260421T002216Z
SUMMARY:Word Vancouver Reading and Writing Festival
LOCATION:UBC Robson 800 Robson St  Vancouver BC V6Z 3B7
ORGANIZER;CN=Wendy Cowley:MAILTO:wacowley@telus.net
DTSTART;TZID=America/Vancouver:20230916T100000
DTEND;TZID=America/Vancouver:20230916T170000
X-ALT-DESC;FMTTYPE=TEXT/HTML:We will have a table where we will letter book
 marks for the public (for free) and we will talk about calligraphy.
CATEGORIES:Volunteer Events
URL;VALUE=URI:https://www.westcoastcalligraphy.com/mc-events/word-vancouver
 -reading-and-writing-festival/
METHOD:PUBLISH
END:VEVENT
END:VCALENDAR